BEGIN:VCALENDAR
VERSION:2.0
PRODID:Events Booking
BEGIN:VEVENT
UID:69e9d8b501f7b
SUMMARY:Imaging in birds and exotic animals
DESCRIPTION:
DTSTART:20991230T230000Z
DTSTAMP:20260423T103045Z
ORGANIZER;CN=veticon excellence in veterinary training:MAILTO:fortbildungen
 @veticon.eu
END:VEVENT
END:VCALENDAR